BEGIN:VCALENDAR
VERSION:2.0
PRODID:-//Plone.org//NONSGML plone.app.event//EN
X-WR-TIMEZONE:Europe/Rome
BEGIN:VEVENT
SUMMARY:GRANDI LIEVITATI DOLCI E SALATI
DTSTART;TZID=Europe/Rome;VALUE=DATE-TIME:20251028T180000
DTEND;TZID=Europe/Rome;VALUE=DATE-TIME:20251029T220000
DTSTAMP;VALUE=DATE-TIME:20260424T010806Z
UID:acae2d5ca4e245f5a8d53bb195a50cc0
ATTENDEE;CN="Simona Lauri";ROLE=REQ-PARTICIPANT:Simona Lauri
CONTACT:corsi@ilcavedio.it\, https://www.portalecorsi.com/Corsi.aspx
CREATED;VALUE=DATE-TIME:20251016T102707Z
LAST-MODIFIED;VALUE=DATE-TIME:20251016T102950Z
LOCATION:Malnati professional\, via Stendhal\, Varese (VA)
URL:https://www.slauri.it/events/grandi-lievitati-dolci-e-salati
END:VEVENT
BEGIN:VTIMEZONE
TZID:Europe/Rome
X-LIC-LOCATION:Europe/Rome
BEGIN:STANDARD
DTSTART;VALUE=DATE-TIME:20251026T020000
TZNAME:CET
TZOFFSETFROM:+0200
TZOFFSETTO:+0100
END:STANDARD
END:VTIMEZONE
END:VCALENDAR
