BEGIN:VCALENDAR
VERSION:2.0
PRODID:-//Plone.org//NONSGML plone.app.event//EN
X-WR-TIMEZONE:Europe/Rome
BEGIN:VEVENT
SUMMARY:DONNE CRIMINALI
DTSTART;TZID=Europe/Rome;VALUE=DATE-TIME:20260424T200000
DTEND;TZID=Europe/Rome;VALUE=DATE-TIME:20260424T230000
DTSTAMP;VALUE=DATE-TIME:20260420T122818Z
UID:4820de7cf862417f912caafcbb762a75
ATTENDEE;CN="Avv. NADIA GRANDE";ROLE=REQ-PARTICIPANT:Avv. NADIA GRANDE
CREATED;VALUE=DATE-TIME:20260420T073922Z
DESCRIPTION:CENA E SERATA CONVEGNO
LAST-MODIFIED;VALUE=DATE-TIME:20260420T074120Z
LOCATION:DEFILIPPI\, via Brambilla 15\, Varese (VA)
URL:https://www.slauri.it/events/donne-criminali
END:VEVENT
BEGIN:VTIMEZONE
TZID:Europe/Rome
X-LIC-LOCATION:Europe/Rome
BEGIN:DAYLIGHT
DTSTART;VALUE=DATE-TIME:20260329T030000
TZNAME:CEST
TZOFFSETFROM:+0100
TZOFFSETTO:+0200
END:DAYLIGHT
END:VTIMEZONE
END:VCALENDAR
