BEGIN:VCALENDAR
VERSION:2.0
PRODID:-//Plone.org//NONSGML plone.app.event//EN
X-WR-TIMEZONE:Europe/Rome
BEGIN:VEVENT
SUMMARY:CORSO Natale è...
DTSTART;TZID=Europe/Rome;VALUE=DATE-TIME:20211129T093000
DTEND;TZID=Europe/Rome;VALUE=DATE-TIME:20211201T173000
DTSTAMP;VALUE=DATE-TIME:20260420T140457Z
UID:f837fa22e1274604b3d54f328b0debfa
ATTENDEE;CN="Paolino Bucca - Simona Lauri";ROLE=REQ-PARTICIPANT:Paolino Bu
 cca - Simona Lauri
CONTACT:Paolino Bucca\, 347-5488987
CREATED;VALUE=DATE-TIME:20211026T162647Z
LAST-MODIFIED;VALUE=DATE-TIME:20211026T163118Z
LOCATION:Pizzeria Hamburgeria L'impatto - Nerviano (MI)
URL:https://www.slauri.it/events/corso-natale-e
END:VEVENT
BEGIN:VTIMEZONE
TZID:Europe/Rome
X-LIC-LOCATION:Europe/Rome
BEGIN:STANDARD
DTSTART;VALUE=DATE-TIME:20211031T020000
TZNAME:CET
TZOFFSETFROM:+0200
TZOFFSETTO:+0100
END:STANDARD
END:VTIMEZONE
END:VCALENDAR
