BEGIN:VCALENDAR
VERSION:2.0
PRODID:-//Plone.org//NONSGML plone.app.event//EN
X-WR-TIMEZONE:Europe/Rome
BEGIN:VEVENT
SUMMARY:Corso Analisi Sensoriale - Primo livello
DTSTART;TZID=Europe/Rome;VALUE=DATE-TIME:20170606T093500
DTEND;TZID=Europe/Rome;VALUE=DATE-TIME:20170607T190000
DTSTAMP;VALUE=DATE-TIME:20260423T234542Z
UID:39ea77888c2a48089c3e5e80fe0e000b
CONTACT:Dott.ssa ELSA CUGOLA\, +393428488483
CREATED;VALUE=DATE-TIME:20170531T173538Z
DESCRIPTION:Quarta edizione
LAST-MODIFIED;VALUE=DATE-TIME:20170603T100539Z
LOCATION:Montecorvino Rovella (SA)
URL:https://www.slauri.it/events/corso-analisi-sensoriale-primo-livello
END:VEVENT
BEGIN:VTIMEZONE
TZID:Europe/Rome
X-LIC-LOCATION:Europe/Rome
BEGIN:DAYLIGHT
DTSTART;VALUE=DATE-TIME:20170326T030000
TZNAME:CEST
TZOFFSETFROM:+0100
TZOFFSETTO:+0200
END:DAYLIGHT
END:VTIMEZONE
END:VCALENDAR
