BEGIN:VCALENDAR
VERSION:2.0
PRODID:-//Plone.org//NONSGML plone.app.event//EN
X-WR-TIMEZONE:Europe/Rome
BEGIN:VEVENT
SUMMARY:CAMPIONATO INTERNAZIONALE PIZZA DOLOMITI CUP 2025
DTSTART;TZID=Europe/Rome;VALUE=DATE-TIME:20251006T093000
DTEND;TZID=Europe/Rome;VALUE=DATE-TIME:20251008T170000
DTSTAMP;VALUE=DATE-TIME:20260424T010812Z
UID:a649b5806d8c4effbb8a6b08d86d801b
ATTENDEE;CN="Fabio Patron";ROLE=REQ-PARTICIPANT:Fabio Patron
ATTENDEE;CN="Antonio Malvasi";ROLE=REQ-PARTICIPANT:Antonio Malvasi
ATTENDEE;CN="Lara Pescosolido";ROLE=REQ-PARTICIPANT:Lara Pescosolido
CONTACT:3387080850\, https://www.dolomiticupshow.it/
CREATED;VALUE=DATE-TIME:20250904T094919Z
LAST-MODIFIED;VALUE=DATE-TIME:20250922T073618Z
LOCATION:Longarone Fiere (BL)
URL:https://www.slauri.it/events/campionato-internazionale-pizza-dolomiti-
 cup-2025
END:VEVENT
BEGIN:VTIMEZONE
TZID:Europe/Rome
X-LIC-LOCATION:Europe/Rome
BEGIN:DAYLIGHT
DTSTART;VALUE=DATE-TIME:20250330T030000
TZNAME:CEST
TZOFFSETFROM:+0100
TZOFFSETTO:+0200
END:DAYLIGHT
END:VTIMEZONE
END:VCALENDAR
