BEGIN:VCALENDAR
VERSION:2.0
PRODID:-//Plone.org//NONSGML plone.app.event//EN
X-WR-TIMEZONE:Europe/Rome
BEGIN:VEVENT
SUMMARY:ABUSIVISMO E CONTRAFFAZIONE NEL SETTORE DELLA PANIFICAZIONE
DTSTART;TZID=Europe/Rome;VALUE=DATE-TIME:20201111T100000
DTEND;TZID=Europe/Rome;VALUE=DATE-TIME:20201111T130000
DTSTAMP;VALUE=DATE-TIME:20260424T022333Z
UID:e721e47c82314c71b428f9aa06d3eaa7
ATTENDEE;CN="Vinceslao Ruccolo, Simona Lauri, Patrizio Giorni, Col. Antone
 llo Cefalo, Gaetano Pergamo, Angelo Pellegrino";ROLE=REQ-PARTICIPANT:Vince
 slao Ruccolo, Simona Lauri, Patrizio Giorni, Col. Antonello Cefalo, Gaetan
 o Pergamo, Angelo Pellegrino
CONTACT:fiesaregionaleabruzzo@gmail.com
CREATED;VALUE=DATE-TIME:20201029T113123Z
DESCRIPTION:Convegno di formazione/informazione per implementare la diffus
 ione della legalità e della conoscenza
LAST-MODIFIED;VALUE=DATE-TIME:20201029T113723Z
LOCATION:Piattaforma Microsoft Teams
URL:https://www.slauri.it/events/abusivismo-e-contraffazione-nel-settore-d
 ella-panificazione
END:VEVENT
BEGIN:VTIMEZONE
TZID:Europe/Rome
X-LIC-LOCATION:Europe/Rome
BEGIN:STANDARD
DTSTART;VALUE=DATE-TIME:20201025T020000
TZNAME:CET
TZOFFSETFROM:+0200
TZOFFSETTO:+0100
END:STANDARD
END:VTIMEZONE
END:VCALENDAR
