BEGIN:VCALENDAR
VERSION:2.0
PRODID:-//Plone.org//NONSGML plone.app.event//EN
X-WR-TIMEZONE:Europe/Rome
BEGIN:VEVENT
SUMMARY:PANE PIZZA LIEVITATI SENZA GLUTINE
DTSTART;TZID=Europe/Rome;VALUE=DATE-TIME:20260409T100000
DTEND;TZID=Europe/Rome;VALUE=DATE-TIME:20260410T180000
DTSTAMP;VALUE=DATE-TIME:20260420T123048Z
UID:7b98ccc2d5be4948b638f5c8454b4690
ATTENDEE;CN="SIMONA LAURI";ROLE=REQ-PARTICIPANT:SIMONA LAURI
CONTACT:FABIO PATRON\, 3387080850
CREATED;VALUE=DATE-TIME:20260305T111100Z
DESCRIPTION:CORSO PANIFICAZIONE E ARTE BIANCA
LAST-MODIFIED;VALUE=DATE-TIME:20260305T111134Z
LOCATION:Hotel Pizzeria Griglieria GNOMO GOLOSO\, via Valle Ansiei\, 140 -
  Auronzo di Cadore (BL)
URL:https://www.slauri.it/events/pane-pizza-lievitati-senza-glutine
END:VEVENT
BEGIN:VEVENT
SUMMARY:CORSO PIZZE E FOCACCE DOLCI E SALATE IN PALA E IN TEGLIA
DTSTART;TZID=Europe/Rome;VALUE=DATE-TIME:20260331T180000
DTEND;TZID=Europe/Rome;VALUE=DATE-TIME:20260401T220000
DTSTAMP;VALUE=DATE-TIME:20260420T123048Z
UID:ecb511d7a6db48ab9aad28296c67da59
ATTENDEE;CN="SIMONA LAURI";ROLE=REQ-PARTICIPANT:SIMONA LAURI
CONTACT:347.9672292
CREATED;VALUE=DATE-TIME:20260211T100132Z
DESCRIPTION:CORSO DI ARTE BIANCA PIZZA E FOCACCE
LAST-MODIFIED;VALUE=DATE-TIME:20260211T103414Z
LOCATION:Happy Shed\, via Molino 1\,  Arcisate Brenno Useria
URL:https://www.slauri.it/events/corso-pizze-e-focacce-dolci-in-pala-e-in-
 teglia
END:VEVENT
BEGIN:VEVENT
SUMMARY:CORSO PASTA SFOGLIA
DTSTART;TZID=Europe/Rome;VALUE=DATE-TIME:20260325T180000
DTEND;TZID=Europe/Rome;VALUE=DATE-TIME:20260326T220000
DTSTAMP;VALUE=DATE-TIME:20260420T123048Z
UID:e6b7eceaf7b24734a82c381b16753f9d
ATTENDEE;CN="SIMONA LAURI";ROLE=REQ-PARTICIPANT:SIMONA LAURI
CONTACT:347.9672292
CREATED;VALUE=DATE-TIME:20260211T095504Z
DESCRIPTION:CORSO PREPARAZIONE DI CROISSANT DOLCI E SALATI
LAST-MODIFIED;VALUE=DATE-TIME:20260211T095822Z
LOCATION:Happy Shed\, via Molino 1\,  Arcisate Brenno Useria
URL:https://www.slauri.it/events/corso-pasta-sfoglia
END:VEVENT
BEGIN:VEVENT
SUMMARY:PIZZE E FOCACCE D'ITALIA
DTSTART;TZID=Europe/Rome;VALUE=DATE-TIME:20260316T180000
DTEND;TZID=Europe/Rome;VALUE=DATE-TIME:20260317T220000
DTSTAMP;VALUE=DATE-TIME:20260420T123048Z
UID:6ad342500d2245e0863cbbe30d7bd75a
ATTENDEE;CN="SIMONA LAURI";ROLE=REQ-PARTICIPANT:SIMONA LAURI
CONTACT:0332-287281  348-8002081\, corsi@ilcavedio.it\, https://www.portal
 ecorsi.com/Corsi.aspx
CREATED;VALUE=DATE-TIME:20260211T095010Z
DESCRIPTION:CORSO DI ARTE BIANCA E CUCINA
LAST-MODIFIED;VALUE=DATE-TIME:20260211T095013Z
LOCATION:MALNATI PROFESSIONAL - VIA STENDHAL - BOSTO (VA)
URL:https://www.slauri.it/events/pizze-e-focacce-ditalia-2
END:VEVENT
BEGIN:VEVENT
SUMMARY:COLOMBE E LIEVITATI PASQUALI
DTSTART;TZID=Europe/Rome;VALUE=DATE-TIME:20260312T180000
DTEND;TZID=Europe/Rome;VALUE=DATE-TIME:20260313T220000
DTSTAMP;VALUE=DATE-TIME:20260420T123048Z
UID:ef81a5cff0894bf7865d415162335546
ATTENDEE;CN="SIMONA LAURI";ROLE=REQ-PARTICIPANT:SIMONA LAURI
CONTACT:0332-287281  348-8002081\, corsi@ilcavedio.it\, https://www.portal
 ecorsi.com/Corsi.aspx
CREATED;VALUE=DATE-TIME:20260220T103909Z
DESCRIPTION:COLOMBE E DOLCI PER LA PASQUA
LAST-MODIFIED;VALUE=DATE-TIME:20260220T103912Z
LOCATION:MALNATI PROFESSIONAL - VIA STENDHAL - BOSTO (VA)
URL:https://www.slauri.it/events/colombe-e-lievitati-pasquali
END:VEVENT
BEGIN:VEVENT
SUMMARY:BUFFET PASQUALE
DTSTART;TZID=Europe/Rome;VALUE=DATE-TIME:20260310T180000
DTEND;TZID=Europe/Rome;VALUE=DATE-TIME:20260311T220000
DTSTAMP;VALUE=DATE-TIME:20260420T123048Z
UID:3dc04331d7db4545b2761bc3394f394e
ATTENDEE;CN="SIMONA LAURI";ROLE=REQ-PARTICIPANT:SIMONA LAURI
CONTACT:0332-287281  348-8002081\, corsi@ilcavedio.it\, https://www.portal
 ecorsi.com/Corsi.aspx
CREATED;VALUE=DATE-TIME:20260220T101636Z
DESCRIPTION:CORSO DI CUCINA E ARTE BIANCA
LAST-MODIFIED;VALUE=DATE-TIME:20260220T101642Z
LOCATION:MALNATI PROFESSIONAL - VIA STENDHAL - BOSTO (VA)
URL:https://www.slauri.it/events/buffet-pasquale
END:VEVENT
BEGIN:VEVENT
SUMMARY:COLAZIONI E MERENDE
DTSTART;TZID=Europe/Rome;VALUE=DATE-TIME:20260304T180000
DTEND;TZID=Europe/Rome;VALUE=DATE-TIME:20260305T220000
DTSTAMP;VALUE=DATE-TIME:20260420T123048Z
UID:58480acdb5a442b085f03ba8b681c09d
ATTENDEE;CN="SIMONA LAURI";ROLE=REQ-PARTICIPANT:SIMONA LAURI
CONTACT:0332-287281  348-8002081\, corsi@ilcavedio.it\, https://www.portal
 ecorsi.com/Corsi.aspx
CREATED;VALUE=DATE-TIME:20260211T094236Z
DESCRIPTION:CORSO CUCINA & ARTE BIANCA
LAST-MODIFIED;VALUE=DATE-TIME:20260211T094452Z
LOCATION:MALNATI PROFESSIONAL - VIA STENDHAL - BOSTO (VA)
URL:https://www.slauri.it/events/colazioni-e-merende-2
END:VEVENT
BEGIN:VEVENT
SUMMARY:MONTAGNA: ISTRUZIONI PER L'USO
DTSTART;TZID=Europe/Rome;VALUE=DATE-TIME:20260205T210000
DTEND;TZID=Europe/Rome;VALUE=DATE-TIME:20260225T230000
DTSTAMP;VALUE=DATE-TIME:20260420T123048Z
UID:f5decc2488d441b5bcd4875c104a3b29
ATTENDEE;CN="MARCO MAGRO ";ROLE=REQ-PARTICIPANT:MARCO MAGRO 
ATTENDEE;CN="CLAUDIO BOLDORINI ";ROLE=REQ-PARTICIPANT:CLAUDIO BOLDORINI 
ATTENDEE;CN="Dr. LUIGI VANONI";ROLE=REQ-PARTICIPANT:Dr. LUIGI VANONI
CONTACT:http://www.caicastellanza.it
CREATED;VALUE=DATE-TIME:20260211T093551Z
DESCRIPTION:Regole per l'escursionista responsabile
LAST-MODIFIED;VALUE=DATE-TIME:20260211T094534Z
LOCATION:Castellanza\, Sala Conferenze Biblioteca Civica\, ingresso P.zza 
 Castagnate 2 (park auto p.zza Leonardo Cerini)
URL:https://www.slauri.it/events/montagna-istruzioni-per-luso
END:VEVENT
BEGIN:VEVENT
SUMMARY:CORSO DI PANIFICAZIONE BASE
DTSTART;TZID=Europe/Rome;VALUE=DATE-TIME:20260203T180000
DTEND;TZID=Europe/Rome;VALUE=DATE-TIME:20260204T220000
DTSTAMP;VALUE=DATE-TIME:20260420T123048Z
UID:69da730ca64f4d7cbcff45e7a7467b4d
ATTENDEE;CN="SIMON LAURI";ROLE=REQ-PARTICIPANT:SIMON LAURI
CONTACT:3479672292
CREATED;VALUE=DATE-TIME:20260127T181116Z
LAST-MODIFIED;VALUE=DATE-TIME:20260127T181119Z
LOCATION:Happy Shed\, via Molino 1\,  Arcisate Brenno Useria
URL:https://www.slauri.it/events/corso-di-panificazione-base-1
END:VEVENT
BEGIN:VEVENT
SUMMARY:CORSO DI PANIFICAZIONE BASE
DTSTART;TZID=Europe/Rome;VALUE=DATE-TIME:20260127T180000
DTEND;TZID=Europe/Rome;VALUE=DATE-TIME:20260128T220000
DTSTAMP;VALUE=DATE-TIME:20260420T123048Z
UID:35a0a2a5966f4879beb1417e27cfa2a4
CONTACT:Simona Lauri\, 347.9672292
CREATED;VALUE=DATE-TIME:20260127T100710Z
LAST-MODIFIED;VALUE=DATE-TIME:20260127T181139Z
LOCATION:Happy Shed\, via Molino 1\,  Arcisate Brenno Useria
URL:https://www.slauri.it/events/corso-di-panificazione-base
END:VEVENT
BEGIN:VEVENT
SUMMARY:COLAZIONI E MERENDE
DTSTART;TZID=Europe/Rome;VALUE=DATE-TIME:20260115T180000
DTEND;TZID=Europe/Rome;VALUE=DATE-TIME:20260116T220000
DTSTAMP;VALUE=DATE-TIME:20260420T123048Z
UID:f968955808aa4273af13baab2281e080
CONTACT:0332-287281  348-8002081\, corsi@ilcavedio.it\, https://www.portal
 ecorsi.com/corsi-di-cucina-varese
CREATED;VALUE=DATE-TIME:20260108T091057Z
LAST-MODIFIED;VALUE=DATE-TIME:20260108T091130Z
LOCATION:MALNATI PROFESSIONAL - VIA STENDHAL - BOSTO (VA)
URL:https://www.slauri.it/events/colazioni-e-merende-1
END:VEVENT
BEGIN:VEVENT
SUMMARY:PIZZE E FOCACCE D'ITALIA
DTSTART;TZID=Europe/Rome;VALUE=DATE-TIME:20260113T180000
DTEND;TZID=Europe/Rome;VALUE=DATE-TIME:20260114T220000
DTSTAMP;VALUE=DATE-TIME:20260420T123048Z
UID:b5ba4955dae14620a0fd1303d5e736d3
ATTENDEE;CN="Simona Lauri";ROLE=REQ-PARTICIPANT:Simona Lauri
CONTACT:corsi@ilcavedio.it\, https://www.portalecorsi.com/Corsi.aspx
CREATED;VALUE=DATE-TIME:20251111T174731Z
LAST-MODIFIED;VALUE=DATE-TIME:20251111T174734Z
LOCATION:Malnati professional\, via Stendhal\, Varese (VA)
URL:https://www.slauri.it/events/pizze-e-focacce-ditalia-1
END:VEVENT
BEGIN:VEVENT
SUMMARY:BUFFET NATALIZIO - PANI INTRECCIATI\, SEGNAPOSTI\, CENTROTAVOLA (T
 urno 2)
DTSTART;TZID=Europe/Rome;VALUE=DATE-TIME:20251202T180000
DTEND;TZID=Europe/Rome;VALUE=DATE-TIME:20251203T220000
DTSTAMP;VALUE=DATE-TIME:20260420T123048Z
UID:113f9fc650bf479a8ece8e2efd517a36
ATTENDEE;CN="Simona Lauri";ROLE=REQ-PARTICIPANT:Simona Lauri
CONTACT:corsi@ilcavedio.it\, https://www.portalecorsi.com/Corsi.aspx
CREATED;VALUE=DATE-TIME:20251111T174258Z
LAST-MODIFIED;VALUE=DATE-TIME:20251111T174301Z
LOCATION:Malnati professional\, via Stendhal\, Varese (VA)
URL:https://www.slauri.it/events/buffet-natalizio-pani-intrecciati-segnapo
 sti-centrotavola-turno-2
END:VEVENT
BEGIN:VEVENT
SUMMARY:BUFFET NATALIZIO - PANINI MONOPORZIONI DOLCI E SALATI  (turno 1)
DTSTART;TZID=Europe/Rome;VALUE=DATE-TIME:20251111T180000
DTEND;TZID=Europe/Rome;VALUE=DATE-TIME:20251112T220000
DTSTAMP;VALUE=DATE-TIME:20260420T123048Z
UID:f8545133cc5744ee8bbeab7715ac9bee
ATTENDEE;CN="Simona Lauri";ROLE=REQ-PARTICIPANT:Simona Lauri
CONTACT:corsi@ilcavedio.it\, https://www.portalecorsi.com/corsi-di-cucina-
 varese
CREATED;VALUE=DATE-TIME:20250922T074857Z
LAST-MODIFIED;VALUE=DATE-TIME:20251111T173830Z
LOCATION:Malnati professional\, via Stendhal\, Varese (VA)
URL:https://www.slauri.it/events/buffet-natalizio-panini-monoporzioni-dolc
 i-e-salati-turno-1
END:VEVENT
BEGIN:VEVENT
SUMMARY:GRANDI LIEVITATI DOLCI E SALATI
DTSTART;TZID=Europe/Rome;VALUE=DATE-TIME:20251028T180000
DTEND;TZID=Europe/Rome;VALUE=DATE-TIME:20251029T220000
DTSTAMP;VALUE=DATE-TIME:20260420T123048Z
UID:acae2d5ca4e245f5a8d53bb195a50cc0
ATTENDEE;CN="Simona Lauri";ROLE=REQ-PARTICIPANT:Simona Lauri
CONTACT:corsi@ilcavedio.it\, https://www.portalecorsi.com/Corsi.aspx
CREATED;VALUE=DATE-TIME:20251016T102707Z
LAST-MODIFIED;VALUE=DATE-TIME:20251016T102950Z
LOCATION:Malnati professional\, via Stendhal\, Varese (VA)
URL:https://www.slauri.it/events/grandi-lievitati-dolci-e-salati
END:VEVENT
BEGIN:VEVENT
SUMMARY:PIZZE E FOCACCE D'ITALIA
DTSTART;TZID=Europe/Rome;VALUE=DATE-TIME:20251021T180000
DTEND;TZID=Europe/Rome;VALUE=DATE-TIME:20251022T220000
DTSTAMP;VALUE=DATE-TIME:20260420T123048Z
UID:3fa2b1ceff364e3788fd9131dc6f4d94
ATTENDEE;CN="Simona Lauri";ROLE=REQ-PARTICIPANT:Simona Lauri
CONTACT:corsi@ilcavedio.it\, https://www.portalecorsi.com/corsi-di-cucina-
 varese
CREATED;VALUE=DATE-TIME:20250922T074536Z
LAST-MODIFIED;VALUE=DATE-TIME:20250922T074539Z
LOCATION:Malnati professional\, via Stendhal\, Varese (VA)
URL:https://www.slauri.it/events/pizze-e-focacce-ditalia
END:VEVENT
BEGIN:VEVENT
SUMMARY:LE MASTERCLASS LONGARONE FIERE
DTSTART;TZID=Europe/Rome;VALUE=DATE-TIME:20251006T110000
DTEND;TZID=Europe/Rome;VALUE=DATE-TIME:20251008T170000
DTSTAMP;VALUE=DATE-TIME:20260420T123048Z
UID:9662bbeefb674763b793938c3845439d
CONTACT:https://www.dolomiticupshow.it/pane-senza-glutine-e-ingredienti-in
 novativi/
CREATED;VALUE=DATE-TIME:20250904T101653Z
LAST-MODIFIED;VALUE=DATE-TIME:20250904T101710Z
LOCATION:Longarone Fiere (BL)
URL:https://www.slauri.it/events/le-masterclass-longarone-fiere
END:VEVENT
BEGIN:VEVENT
SUMMARY:CAMPIONATO INTERNAZIONALE PIZZA DOLOMITI CUP 2025
DTSTART;TZID=Europe/Rome;VALUE=DATE-TIME:20251006T093000
DTEND;TZID=Europe/Rome;VALUE=DATE-TIME:20251008T170000
DTSTAMP;VALUE=DATE-TIME:20260420T123048Z
UID:a649b5806d8c4effbb8a6b08d86d801b
ATTENDEE;CN="Fabio Patron";ROLE=REQ-PARTICIPANT:Fabio Patron
ATTENDEE;CN="Antonio Malvasi";ROLE=REQ-PARTICIPANT:Antonio Malvasi
ATTENDEE;CN="Lara Pescosolido";ROLE=REQ-PARTICIPANT:Lara Pescosolido
CONTACT:3387080850\, https://www.dolomiticupshow.it/
CREATED;VALUE=DATE-TIME:20250904T094919Z
LAST-MODIFIED;VALUE=DATE-TIME:20250922T073618Z
LOCATION:Longarone Fiere (BL)
URL:https://www.slauri.it/events/campionato-internazionale-pizza-dolomiti-
 cup-2025
END:VEVENT
BEGIN:VEVENT
SUMMARY:PANIFICAZIONE TRADIZIONALE BOSINA LOMBARDA
DTSTART;TZID=Europe/Rome;VALUE=DATE-TIME:20250930T180000
DTEND;TZID=Europe/Rome;VALUE=DATE-TIME:20251001T220000
DTSTAMP;VALUE=DATE-TIME:20260420T123048Z
UID:c0633cdd137b488e85e30d28f66f2f11
ATTENDEE;CN="Simona Lauri";ROLE=REQ-PARTICIPANT:Simona Lauri
CONTACT:corsi@ilcavedio.it\, https://www.portalecorsi.com/Corsi.aspx
CREATED;VALUE=DATE-TIME:20250922T082635Z
LAST-MODIFIED;VALUE=DATE-TIME:20250922T082900Z
LOCATION:Malnati professional\, via Stendhal\, Varese (VA)
URL:https://www.slauri.it/events/panificazione-tradizionale-bosina-lombard
 a-1
END:VEVENT
BEGIN:VEVENT
SUMMARY:LIEVITATI Corso Base e Avanzato
DTSTART;TZID=Europe/Rome;VALUE=DATE-TIME:20250923T180000
DTEND;TZID=Europe/Rome;VALUE=DATE-TIME:20250924T220000
DTSTAMP;VALUE=DATE-TIME:20260420T123048Z
UID:13a37874a8d847acb77e76c81290e162
ATTENDEE;CN="Simona Lauri";ROLE=REQ-PARTICIPANT:Simona Lauri
CONTACT:corsi@ilcavedio.it\, https://www.portalecorsi.com/corsi-di-cucina-
 varese
CREATED;VALUE=DATE-TIME:20250922T073858Z
LAST-MODIFIED;VALUE=DATE-TIME:20250922T074611Z
LOCATION:Malnati professional\, via Stendhal\, Varese (VA)
URL:https://www.slauri.it/events/lievitati-corso-base-e-avanzato
END:VEVENT
BEGIN:VEVENT
SUMMARY:MULINO DAY 2025
DTSTART;TZID=Europe/Rome;VALUE=DATE-TIME:20250518T093000
DTEND;TZID=Europe/Rome;VALUE=DATE-TIME:20250518T193000
DTSTAMP;VALUE=DATE-TIME:20260420T123048Z
UID:69723b89663149f4aa64ef029488ce87
ATTENDEE;CN="Matteo Beretta del panificio Il Panificio";ROLE=REQ-PARTICIPA
 NT:Matteo Beretta del panificio Il Panificio
ATTENDEE;CN="Simona Lauri";ROLE=REQ-PARTICIPANT:Simona Lauri
CREATED;VALUE=DATE-TIME:20250513T090258Z
LAST-MODIFIED;VALUE=DATE-TIME:20250513T090442Z
LOCATION:Spazuio 00 - via Valloggia - San Vittore Olona (MI)
URL:https://www.slauri.it/events/mulino-day-2025
END:VEVENT
BEGIN:VEVENT
SUMMARY:PANIFICAZIONE TRADIZIONALE BOSINA LOMBARDA
DTSTART;TZID=Europe/Rome;VALUE=DATE-TIME:20250513T180000
DTEND;TZID=Europe/Rome;VALUE=DATE-TIME:20250514T220000
DTSTAMP;VALUE=DATE-TIME:20260420T123048Z
UID:019c91ea7d324b7a921221e8a3b1a7b4
CONTACT:3488002081\, corsi@ilcavedio.it\, https://www.portalecorsi.com/cor
 si-di-cucina-varese
CREATED;VALUE=DATE-TIME:20250508T080831Z
LAST-MODIFIED;VALUE=DATE-TIME:20250508T081009Z
LOCATION:Malnati professional\, via Stendhal\, Varese (VA)
URL:https://www.slauri.it/events/panificazione-tradizionale-bosina-lombard
 a
END:VEVENT
BEGIN:VEVENT
SUMMARY:Lievitati e Pizza Corso Avanzato
DTSTART;TZID=Europe/Rome;VALUE=DATE-TIME:20250429T180000
DTEND;TZID=Europe/Rome;VALUE=DATE-TIME:20250430T220000
DTSTAMP;VALUE=DATE-TIME:20260420T123048Z
UID:54a7b806bf72468e8c41b7d0939f7b5c
CONTACT:corsi@ilcavedio.it\, https://www.portalecorsi.com/corsi-di-cucina-
 varese
CREATED;VALUE=DATE-TIME:20250408T083604Z
LAST-MODIFIED;VALUE=DATE-TIME:20250408T083642Z
LOCATION:Malnati professional\, via Stendhal\, Varese (VA)
URL:https://www.slauri.it/events/lievitati-e-pizza-corso-avanzato
END:VEVENT
BEGIN:VEVENT
SUMMARY:Lievitati e Pizza
DTSTART;TZID=Europe/Rome;VALUE=DATE-TIME:20250415T180000
DTEND;TZID=Europe/Rome;VALUE=DATE-TIME:20250416T220000
DTSTAMP;VALUE=DATE-TIME:20260420T123048Z
UID:ced96c6dfffb44c5a1ad32ed3ccac7bd
ATTENDEE;CN="Simona Lauri";ROLE=REQ-PARTICIPANT:Simona Lauri
CONTACT:3488002081\, https://www.portalecorsi.com/corsi-di-cucina-varese
CREATED;VALUE=DATE-TIME:20250214T111104Z
LAST-MODIFIED;VALUE=DATE-TIME:20250214T111107Z
LOCATION:Malnati professional\, via Stendhal\, Varese (VA)
URL:https://www.slauri.it/events/lievitati-e-pizza-1
END:VEVENT
BEGIN:VEVENT
SUMMARY:LA VOLONTÀ DI FARE INSIEME
DTSTART;TZID=Europe/Rome;VALUE=DATE-TIME:20250412T093000
DTEND;TZID=Europe/Rome;VALUE=DATE-TIME:20250412T163000
DTSTAMP;VALUE=DATE-TIME:20260420T123048Z
UID:fb0dbcd07f5c4d0bb3bc1eb2313308fa
CREATED;VALUE=DATE-TIME:20250408T081813Z
LAST-MODIFIED;VALUE=DATE-TIME:20250408T083247Z
LOCATION:Lavena Ponte Tresa\, p.zza San Giorgio
URL:https://www.slauri.it/events/la-volonta-di-fare-insieme
END:VEVENT
BEGIN:VEVENT
SUMMARY:Lievitati e Pizza
DTSTART;TZID=Europe/Rome;VALUE=DATE-TIME:20250401T180000
DTEND;TZID=Europe/Rome;VALUE=DATE-TIME:20250402T220000
DTSTAMP;VALUE=DATE-TIME:20260420T123048Z
UID:5daf612c2826491cae8b7d2220b906a8
ATTENDEE;CN="Simona Lauri";ROLE=REQ-PARTICIPANT:Simona Lauri
CONTACT:3488002081\, https://www.portalecorsi.com/corsi-di-cucina-varese
CREATED;VALUE=DATE-TIME:20250214T110700Z
LAST-MODIFIED;VALUE=DATE-TIME:20250214T110752Z
LOCATION:Malnati professional\, via Stendhal\, Varese (VA)
URL:https://www.slauri.it/events/lievitati-e-pizza
END:VEVENT
BEGIN:VEVENT
SUMMARY:CORSO MASTER DI ARTE BIANCA
DTSTART;TZID=Europe/Rome;VALUE=DATE-TIME:20250318T100000
DTEND;TZID=Europe/Rome;VALUE=DATE-TIME:20250319T190000
DTSTAMP;VALUE=DATE-TIME:20260420T123048Z
UID:2492392c7d2f45868d107f56884abf28
ATTENDEE;CN="Istituti IFIP Italia";ROLE=REQ-PARTICIPANT:Istituti IFIP Ital
 ia
ATTENDEE;CN="Tony Sergione Gentile";ROLE=REQ-PARTICIPANT:Tony Sergione Gen
 tile
ATTENDEE;CN="Simona Lauri";ROLE=REQ-PARTICIPANT:Simona Lauri
CONTACT:Tony Sergione Gentile\, 379.2237576  -  0984.838773\, info@ifipita
 lia.it
CREATED;VALUE=DATE-TIME:20250206T111934Z
LAST-MODIFIED;VALUE=DATE-TIME:20250220T093452Z
LOCATION:Università della Calabria\, via Alessandro Magno 363 - Rende (CS
 )
URL:https://www.slauri.it/events/master-per-professionisti-e-amatori-della
 rte-bianca
END:VEVENT
BEGIN:VEVENT
SUMMARY:VARESE CORSI
DTSTART;TZID=Europe/Rome;VALUE=DATE-TIME:20241021T090000
DTEND;TZID=Europe/Rome;VALUE=DATE-TIME:20241029T130000
DTSTAMP;VALUE=DATE-TIME:20260420T123048Z
UID:c98cccbbca2c4e4f8dd0fc23171c61b6
ATTENDEE;CN="Simona Lauri";ROLE=REQ-PARTICIPANT:Simona Lauri
CONTACT:https://varese-corsi.it
CREATED;VALUE=DATE-TIME:20241010T104227Z
LAST-MODIFIED;VALUE=DATE-TIME:20241010T104235Z
LOCATION:Istituto De Filippi\, via Brambilla 15\, Varese
URL:https://www.slauri.it/events/varese-corsi
END:VEVENT
BEGIN:VEVENT
SUMMARY:Pizza\, Focacce\, Pane\; tecniche\, gestione e innovavazione
DTSTART;TZID=Europe/Rome;VALUE=DATE-TIME:20240413T093000
DTEND;TZID=Europe/Rome;VALUE=DATE-TIME:20240414T173000
DTSTAMP;VALUE=DATE-TIME:20260420T123048Z
UID:c81c240c7926414bbc99e809aba44c52
ATTENDEE;CN="Simona Lauri";ROLE=REQ-PARTICIPANT:Simona Lauri
CONTACT:Quotidie Magazine\, marketing@quotidiemagazine.it
CREATED;VALUE=DATE-TIME:20240213T082936Z
DESCRIPTION:Corso Master Panificazione e Arte Bianca di Simona Lauri
LAST-MODIFIED;VALUE=DATE-TIME:20240307T115357Z
LOCATION:Pavesi Forni Modena\, via Radici in Piano 120 C\, 41043 Formigine
  (MO)
URL:https://www.slauri.it/events/pizza-focacce-pane-tecniche-gestione-e-in
 novavazione
END:VEVENT
BEGIN:VEVENT
SUMMARY:Tecnica\, gestione e metodiche a confronto impasti pizza e pane
DTSTART;TZID=Europe/Rome;VALUE=DATE-TIME:20240114T090000
DTEND;TZID=Europe/Rome;VALUE=DATE-TIME:20240115T073000
DTSTAMP;VALUE=DATE-TIME:20260420T123048Z
UID:1313331c236243db86cf268158bf4e05
ATTENDEE;CN="Simona Lauri";ROLE=REQ-PARTICIPANT:Simona Lauri
ATTENDEE;CN="Tony Sergione Gentile";ROLE=REQ-PARTICIPANT:Tony Sergione Gen
 tile
CONTACT:+39 3792237576
CREATED;VALUE=DATE-TIME:20231212T100530Z
LAST-MODIFIED;VALUE=DATE-TIME:20231212T100717Z
LOCATION:Forni Recchia\, Viale dei Pini 11\, Valmontone (RM)
URL:https://www.slauri.it/events/tecnica-gestione-e-metodiche-a-confronto-
 impasti-pizza-e-pane
END:VEVENT
BEGIN:VEVENT
SUMMARY:CORSO Natale è...
DTSTART;TZID=Europe/Rome;VALUE=DATE-TIME:20211129T093000
DTEND;TZID=Europe/Rome;VALUE=DATE-TIME:20211201T173000
DTSTAMP;VALUE=DATE-TIME:20260420T123048Z
UID:f837fa22e1274604b3d54f328b0debfa
ATTENDEE;CN="Paolino Bucca - Simona Lauri";ROLE=REQ-PARTICIPANT:Paolino Bu
 cca - Simona Lauri
CONTACT:Paolino Bucca\, 347-5488987
CREATED;VALUE=DATE-TIME:20211026T162647Z
LAST-MODIFIED;VALUE=DATE-TIME:20211026T163118Z
LOCATION:Pizzeria Hamburgeria L'impatto - Nerviano (MI)
URL:https://www.slauri.it/events/corso-natale-e
END:VEVENT
BEGIN:VEVENT
SUMMARY:ABUSIVISMO E CONTRAFFAZIONE NEL SETTORE DELLA PANIFICAZIONE
DTSTART;TZID=Europe/Rome;VALUE=DATE-TIME:20201111T100000
DTEND;TZID=Europe/Rome;VALUE=DATE-TIME:20201111T130000
DTSTAMP;VALUE=DATE-TIME:20260420T123048Z
UID:e721e47c82314c71b428f9aa06d3eaa7
ATTENDEE;CN="Vinceslao Ruccolo, Simona Lauri, Patrizio Giorni, Col. Antone
 llo Cefalo, Gaetano Pergamo, Angelo Pellegrino";ROLE=REQ-PARTICIPANT:Vince
 slao Ruccolo, Simona Lauri, Patrizio Giorni, Col. Antonello Cefalo, Gaetan
 o Pergamo, Angelo Pellegrino
CONTACT:fiesaregionaleabruzzo@gmail.com
CREATED;VALUE=DATE-TIME:20201029T113123Z
DESCRIPTION:Convegno di formazione/informazione per implementare la diffus
 ione della legalità e della conoscenza
LAST-MODIFIED;VALUE=DATE-TIME:20201029T113723Z
LOCATION:Piattaforma Microsoft Teams
URL:https://www.slauri.it/events/abusivismo-e-contraffazione-nel-settore-d
 ella-panificazione
END:VEVENT
BEGIN:VEVENT
SUMMARY:Corso Magistrale
DTSTART;TZID=Europe/Rome;VALUE=DATE-TIME:20171002T090000
DTEND;TZID=Europe/Rome;VALUE=DATE-TIME:20171007T190000
DTSTAMP;VALUE=DATE-TIME:20260420T123048Z
UID:7cb6c3eeb6b84dcfb65b79d2ed0d9fd2
CONTACT:Dott.ssa ELSA CUGOLA\, +393428488483
CREATED;VALUE=DATE-TIME:20170531T173946Z
DESCRIPTION:Una sede Magistrale per un corso Magistrale
LAST-MODIFIED;VALUE=DATE-TIME:20170603T100628Z
LOCATION:Bevilacqua (VR)
URL:https://www.slauri.it/events/corso-magistrale
END:VEVENT
BEGIN:VEVENT
SUMMARY:Corso Analisi Sensoriale - Primo livello
DTSTART;TZID=Europe/Rome;VALUE=DATE-TIME:20170606T093500
DTEND;TZID=Europe/Rome;VALUE=DATE-TIME:20170607T190000
DTSTAMP;VALUE=DATE-TIME:20260420T123048Z
UID:39ea77888c2a48089c3e5e80fe0e000b
CONTACT:Dott.ssa ELSA CUGOLA\, +393428488483
CREATED;VALUE=DATE-TIME:20170531T173538Z
DESCRIPTION:Quarta edizione
LAST-MODIFIED;VALUE=DATE-TIME:20170603T100539Z
LOCATION:Montecorvino Rovella (SA)
URL:https://www.slauri.it/events/corso-analisi-sensoriale-primo-livello
END:VEVENT
BEGIN:VTIMEZONE
TZID:Europe/Rome
X-LIC-LOCATION:Europe/Rome
BEGIN:DAYLIGHT
DTSTART;VALUE=DATE-TIME:20170326T030000
TZNAME:CEST
TZOFFSETFROM:+0100
TZOFFSETTO:+0200
END:DAYLIGHT
BEGIN:DAYLIGHT
DTSTART;VALUE=DATE-TIME:20260329T030000
TZNAME:CEST
TZOFFSETFROM:+0100
TZOFFSETTO:+0200
END:DAYLIGHT
BEGIN:STANDARD
DTSTART;VALUE=DATE-TIME:20211031T020000
TZNAME:CET
TZOFFSETFROM:+0200
TZOFFSETTO:+0100
END:STANDARD
BEGIN:STANDARD
DTSTART;VALUE=DATE-TIME:20251026T020000
TZNAME:CET
TZOFFSETFROM:+0200
TZOFFSETTO:+0100
END:STANDARD
BEGIN:STANDARD
DTSTART;VALUE=DATE-TIME:20231029T020000
TZNAME:CET
TZOFFSETFROM:+0200
TZOFFSETTO:+0100
END:STANDARD
BEGIN:DAYLIGHT
DTSTART;VALUE=DATE-TIME:20240331T030000
TZNAME:CEST
TZOFFSETFROM:+0100
TZOFFSETTO:+0200
END:DAYLIGHT
BEGIN:STANDARD
DTSTART;VALUE=DATE-TIME:20201025T020000
TZNAME:CET
TZOFFSETFROM:+0200
TZOFFSETTO:+0100
END:STANDARD
BEGIN:STANDARD
DTSTART;VALUE=DATE-TIME:20241027T020000
TZNAME:CET
TZOFFSETFROM:+0200
TZOFFSETTO:+0100
END:STANDARD
BEGIN:DAYLIGHT
DTSTART;VALUE=DATE-TIME:20250330T030000
TZNAME:CEST
TZOFFSETFROM:+0100
TZOFFSETTO:+0200
END:DAYLIGHT
END:VTIMEZONE
END:VCALENDAR
